BEGIN:VCALENDAR
VERSION:2.0
PRODID:-//HundePhysio - ECPv6.0.5//NONSGML v1.0//EN
CALSCALE:GREGORIAN
METHOD:PUBLISH
X-WR-CALNAME:HundePhysio
X-ORIGINAL-URL:http://hundephysio.li
X-WR-CALDESC:Veranstaltungen im HundePhysio
REFRESH-INTERVAL;VALUE=DURATION:PT1H
X-Robots-Tag:noindex
X-PUBLISHED-TTL:PT1H
BEGIN:VTIMEZONE
TZID:UTC
BEGIN:STANDARD
TZOFFSETFROM:+0000
TZOFFSETTO:+0000
TZNAME:UTC
DTSTART:20200101T000000
END:STANDARD
END:VTIMEZONE
BEGIN:VEVENT
DTSTART;TZID=UTC:20221001T090000
DTEND;TZID=UTC:20221001T120000
DTSTAMP:20260420T223324
CREATED:20211116T080709Z
LAST-MODIFIED:20220823T064146Z
UID:375-1664614800-1664625600@hundephysio.li
SUMMARY:Schnupperkurs Tier-Shiatsu
DESCRIPTION:Hilfe zur Eigenregulation. „Sanfte Griffe mit grosser Wirkung“. Sie lernen einige Shiatsu-Techniken und ihre Anwendungsmöglichkeiten kennen und werden diese am Tier umsetzen. Mitnehmen des eigenen Hundes ist erwünscht! \nDie definitive Durchführung wird eine Woche davor per Mail bekanntgegeben.
URL:http://hundephysio.li/kurs/schnupperkurs-tier-shiatsu-18/
END:VEVENT
BEGIN:VEVENT
DTSTART;TZID=UTC:20220827T090000
DTEND;TZID=UTC:20220827T120000
DTSTAMP:20260420T223324
CREATED:20211116T080601Z
LAST-MODIFIED:20220823T064212Z
UID:373-1661590800-1661601600@hundephysio.li
SUMMARY:Schnupperkurs Tier-Shiatsu
DESCRIPTION:Hilfe zur Eigenregulation. „Sanfte Griffe mit grosser Wirkung“. Sie lernen einige Shiatsu-Techniken und ihre Anwendungsmöglichkeiten kennen und werden diese am Tier umsetzen. Mitnehmen des eigenen Hundes ist erwünscht! \nDie definitive Durchführung wird eine Woche davor per Mail bekanntgegeben.
URL:http://hundephysio.li/kurs/schnupperkurs-tier-shiatsu-17/
END:VEVENT
BEGIN:VEVENT
DTSTART;TZID=UTC:20220709T090000
DTEND;TZID=UTC:20220709T120000
DTSTAMP:20260420T223324
CREATED:20211116T080453Z
LAST-MODIFIED:20211116T081238Z
UID:371-1657357200-1657368000@hundephysio.li
SUMMARY:Schnupperkurs Tier-Shiatsu
DESCRIPTION:Hilfe zur Eigenregulation. „Sanfte Griffe mit grosser Wirkung“. Sie lernen einige Shiatsu-Techniken und ihre Anwendungsmöglichkeiten kennen und werden diese am Tier umsetzen. Mitnehmen des eigenen Hundes ist erwünscht! \nDie definitive Durchführung wird eine Woche davor per Mail bekanntgegeben.
URL:http://hundephysio.li/kurs/schnupperkurs-tier-shiatsu-16/
END:VEVENT
BEGIN:VEVENT
DTSTART;TZID=UTC:20220611T090000
DTEND;TZID=UTC:20220611T120000
DTSTAMP:20260420T223324
CREATED:20211116T080326Z
LAST-MODIFIED:20211116T081000Z
UID:369-1654938000-1654948800@hundephysio.li
SUMMARY:Schnupperkurs Tier-Shiatsu
DESCRIPTION:Hilfe zur Eigenregulation. „Sanfte Griffe mit grosser Wirkung“. Sie lernen einige Shiatsu-Techniken und ihre Anwendungsmöglichkeiten kennen und werden diese am Tier umsetzen. Mitnehmen des eigenen Hundes ist erwünscht! \nDie definitive Durchführung wird eine Woche davor per Mail bekanntgegeben.
URL:http://hundephysio.li/kurs/schnupperkurs-tier-shiatsu-15/
END:VEVENT
BEGIN:VEVENT
DTSTART;TZID=UTC:20220423T090000
DTEND;TZID=UTC:20220423T120000
DTSTAMP:20260420T223324
CREATED:20211116T080155Z
LAST-MODIFIED:20220215T143355Z
UID:367-1650704400-1650715200@hundephysio.li
SUMMARY:Schnupperkurs Tier-Shiatsu
DESCRIPTION:Hilfe zur Eigenregulation. „Sanfte Griffe mit grosser Wirkung“. Sie lernen einige Shiatsu-Techniken und ihre Anwendungsmöglichkeiten kennen und werden diese am Tier umsetzen. Mitnehmen des eigenen Hundes ist erwünscht! \nDie definitive Durchführung wird eine Woche davor per Mail bekanntgegeben.
URL:http://hundephysio.li/kurs/schnupperkurs-tier-shiatsu-14/
END:VEVENT
BEGIN:VEVENT
DTSTART;TZID=UTC:20220312T090000
DTEND;TZID=UTC:20220312T120000
DTSTAMP:20260420T223324
CREATED:20211116T080032Z
LAST-MODIFIED:20211116T081052Z
UID:365-1647075600-1647086400@hundephysio.li
SUMMARY:Schnupperkurs Tier-Shiatsu
DESCRIPTION:Hilfe zur Eigenregulation. „Sanfte Griffe mit grosser Wirkung“. Sie lernen einige Shiatsu-Techniken und ihre Anwendungsmöglichkeiten kennen und werden diese am Tier umsetzen. Mitnehmen des eigenen Hundes ist erwünscht! \nDie definitive Durchführung wird eine Woche davor per Mail bekanntgegeben.
URL:http://hundephysio.li/kurs/schnupperkurs-tier-shiatsu-13/
END:VEVENT
BEGIN:VEVENT
DTSTART;TZID=UTC:20220129T090000
DTEND;TZID=UTC:20220129T120000
DTSTAMP:20260420T223324
CREATED:20211116T075636Z
LAST-MODIFIED:20220125T113004Z
UID:362-1643446800-1643457600@hundephysio.li
SUMMARY:Schnupperkurs Tier-Shiatsu
DESCRIPTION:Hilfe zur Eigenregulation. „Sanfte Griffe mit grosser Wirkung“. Sie lernen einige Shiatsu-Techniken und ihre Anwendungsmöglichkeiten kennen und werden diese am Tier umsetzen. Mitnehmen des eigenen Hundes ist erwünscht! \nDie definitive Durchführung wird eine Woche davor per Mail bekanntgegeben.
URL:http://hundephysio.li/kurs/schnupperkurs-tier-shiatsu-12/
END:VEVENT
BEGIN:VEVENT
DTSTART;TZID=UTC:20211127T090000
DTEND;TZID=UTC:20211127T120000
DTSTAMP:20260420T223324
CREATED:20201128T113128Z
LAST-MODIFIED:20210224T063727Z
UID:272-1638003600-1638014400@hundephysio.li
SUMMARY:Praxiseinheit
DESCRIPTION:Um das Tiershiatsu in der Praxis zu vertiefen\, werden für die Schüler der Tier-Shiatsu Schule ME Übungseinheiten angeboten. Die Themen werden von Euch bestimmt. Der eigene Hund kann gerne mitgebracht werden\, ansonsten wird ein Hund zur Verfügung gestellt. Die Praxiseinheit wird mit Fr. 150.00 pro Stunde berechnet. Bei Fragen stehe ich gerne zur Verfügung. Die Anmeldung ist 2 Wochen vor Stattfinden verbindlich.
URL:http://hundephysio.li/kurs/praxiseinheit/
LOCATION:Hundephysio\, Ruggeller Strasse 38\, Gamprin-Bendern\, 9487\, Liechtenstein
ORGANIZER;CN="Gabriela%20Schmid":MAILTO:info@hundephysio.li
END:VEVENT
BEGIN:VEVENT
DTSTART;TZID=UTC:20211120T090000
DTEND;TZID=UTC:20211120T120000
DTSTAMP:20260420T223324
CREATED:20201128T113114Z
LAST-MODIFIED:20210104T120206Z
UID:242-1637398800-1637409600@hundephysio.li
SUMMARY:Schnupperkurs Tier-Shiatsu
DESCRIPTION:Hilfe zur Eigenregulation. „Sanfte Griffe mit grosser Wirkung“. Sie lernen einige Shiatsu-Techniken und ihre Anwendungsmöglichkeiten kennen und werden diese am Tier umsetzen. Mitnehmen des eigenen Hundes ist erwünscht! \nDie definitive Durchführung wird eine Woche davor per Mail bekanntgegeben.
URL:http://hundephysio.li/kurs/schnupperkurs-tier-shiatsu-6/
LOCATION:Hundephysio\, Ruggeller Strasse 38\, Gamprin-Bendern\, 9487\, Liechtenstein
ORGANIZER;CN="Gabriela%20Schmid":MAILTO:info@hundephysio.li
END:VEVENT
BEGIN:VEVENT
DTSTART;TZID=UTC:20211106T090000
DTEND;TZID=UTC:20211106T120000
DTSTAMP:20260420T223324
CREATED:20201128T113150Z
LAST-MODIFIED:20210224T063838Z
UID:270-1636189200-1636200000@hundephysio.li
SUMMARY:Praxiseinheit
DESCRIPTION:Um das Tiershiatsu in der Praxis zu vertiefen\, werden für die Schüler der Tier-Shiatsu Schule ME Übungseinheiten angeboten. Die Themen werden von Euch bestimmt. Der eigene Hund kann gerne mitgebracht werden\, ansonsten wird ein Hund zur Verfügung gestellt. Die Praxiseinheit wird mit Fr. 150.00 pro Stunde berechnet. Bei Fragen stehe ich gerne zur Verfügung. Die Anmeldung ist 2 Wochen vor Stattfinden verbindlich.
URL:http://hundephysio.li/kurs/praxiseinheit-2/
LOCATION:Hundephysio\, Ruggeller Strasse 38\, Gamprin-Bendern\, 9487\, Liechtenstein
ORGANIZER;CN="Gabriela%20Schmid":MAILTO:info@hundephysio.li
END:VEVENT
BEGIN:VEVENT
DTSTART;TZID=UTC:20211023T090000
DTEND;TZID=UTC:20211023T120000
DTSTAMP:20260420T223324
CREATED:20201128T113215Z
LAST-MODIFIED:20210224T063909Z
UID:268-1634979600-1634990400@hundephysio.li
SUMMARY:Praxiseinheit
DESCRIPTION:Um das Tiershiatsu in der Praxis zu vertiefen\, werden für die Schüler der Tier-Shiatsu Schule ME Übungseinheiten angeboten. Die Themen werden von Euch bestimmt. Der eigene Hund kann gerne mitgebracht werden\, ansonsten wird ein Hund zur Verfügung gestellt. Die Praxiseinheit wird mit Fr. 150.00 pro Stunde berechnet. Bei Fragen stehe ich gerne zur Verfügung. Die Anmeldung ist 2 Wochen vor Stattfinden verbindlich.
URL:http://hundephysio.li/kurs/praxiseinheit-3/
LOCATION:Hundephysio\, Ruggeller Strasse 38\, Gamprin-Bendern\, 9487\, Liechtenstein
ORGANIZER;CN="Gabriela%20Schmid":MAILTO:info@hundephysio.li
END:VEVENT
BEGIN:VEVENT
DTSTART;TZID=UTC:20211009T090000
DTEND;TZID=UTC:20211009T120000
DTSTAMP:20260420T223324
CREATED:20201128T113243Z
LAST-MODIFIED:20210104T120135Z
UID:240-1633770000-1633780800@hundephysio.li
SUMMARY:Schnupperkurs Tier-Shiatsu
DESCRIPTION:Hilfe zur Eigenregulation. „Sanfte Griffe mit grosser Wirkung“. Sie lernen einige Shiatsu-Techniken und ihre Anwendungsmöglichkeiten kennen und werden diese am Tier umsetzen. Mitnehmen des eigenen Hundes ist erwünscht! \nDie definitive Durchführung wird eine Woche davor per Mail bekanntgegeben.
URL:http://hundephysio.li/kurs/schnupperkurs-tier-shiatsu-7/
LOCATION:Hundephysio\, Ruggeller Strasse 38\, Gamprin-Bendern\, 9487\, Liechtenstein
ORGANIZER;CN="Gabriela%20Schmid":MAILTO:info@hundephysio.li
END:VEVENT
BEGIN:VEVENT
DTSTART;TZID=UTC:20210918T090000
DTEND;TZID=UTC:20210918T120000
DTSTAMP:20260420T223324
CREATED:20201128T113307Z
LAST-MODIFIED:20210224T063944Z
UID:266-1631955600-1631966400@hundephysio.li
SUMMARY:Praxiseinheit
DESCRIPTION:Um das Tiershiatsu in der Praxis zu vertiefen\, werden für die Schüler der Tier-Shiatsu Schule ME Übungseinheiten angeboten. Die Themen werden von Euch bestimmt. Der eigene Hund kann gerne mitgebracht werden\, ansonsten wird ein Hund zur Verfügung gestellt. Die Praxiseinheit wird mit Fr. 150.00 pro Stunde berechnet. Bei Fragen stehe ich gerne zur Verfügung. Die Anmeldung ist 2 Wochen vor Stattfinden verbindlich.
URL:http://hundephysio.li/kurs/praxiseinheit-4/
LOCATION:Hundephysio\, Ruggeller Strasse 38\, Gamprin-Bendern\, 9487\, Liechtenstein
ORGANIZER;CN="Gabriela%20Schmid":MAILTO:info@hundephysio.li
END:VEVENT
BEGIN:VEVENT
DTSTART;TZID=UTC:20210828T090000
DTEND;TZID=UTC:20210828T120000
DTSTAMP:20260420T223324
CREATED:20201128T113329Z
LAST-MODIFIED:20210104T120113Z
UID:238-1630141200-1630152000@hundephysio.li
SUMMARY:Schnupperkurs Tier-Shiatsu
DESCRIPTION:Hilfe zur Eigenregulation. „Sanfte Griffe mit grosser Wirkung“. Sie lernen einige Shiatsu-Techniken und ihre Anwendungsmöglichkeiten kennen und werden diese am Tier umsetzen. Mitnehmen des eigenen Hundes ist erwünscht! \nDie definitive Durchführung wird eine Woche davor per Mail bekanntgegeben.
URL:http://hundephysio.li/kurs/schnupperkurs-tier-shiatsu-8/
LOCATION:Hundephysio\, Ruggeller Strasse 38\, Gamprin-Bendern\, 9487\, Liechtenstein
ORGANIZER;CN="Gabriela%20Schmid":MAILTO:info@hundephysio.li
END:VEVENT
BEGIN:VEVENT
DTSTART;TZID=UTC:20210814T090000
DTEND;TZID=UTC:20210814T120000
DTSTAMP:20260420T223324
CREATED:20201128T113355Z
LAST-MODIFIED:20210608T200529Z
UID:264-1628931600-1628942400@hundephysio.li
SUMMARY:Praxiseinheit
DESCRIPTION:Um das Tiershiatsu in der Praxis zu vertiefen\, werden für die Schüler der Tier-Shiatsu Schule ME Übungseinheiten angeboten. Die Themen werden von Euch bestimmt. Der eigene Hund kann gerne mitgebracht werden\, ansonsten wird ein Hund zur Verfügung gestellt. Die Praxiseinheit wird mit Fr. 150.00 pro Stunde berechnet. Bei Fragen stehe ich gerne zur Verfügung. Die Anmeldung ist 2 Wochen vor Stattfinden verbindlich.
URL:http://hundephysio.li/kurs/praxiseinheit-5/
LOCATION:Hundephysio\, Ruggeller Strasse 38\, Gamprin-Bendern\, 9487\, Liechtenstein
ORGANIZER;CN="Gabriela%20Schmid":MAILTO:info@hundephysio.li
END:VEVENT
BEGIN:VEVENT
DTSTART;TZID=UTC:20210717T090000
DTEND;TZID=UTC:20210717T120000
DTSTAMP:20260420T223324
CREATED:20201128T113418Z
LAST-MODIFIED:20210224T064053Z
UID:262-1626512400-1626523200@hundephysio.li
SUMMARY:Praxiseinheit
DESCRIPTION:Um das Tiershiatsu in der Praxis zu vertiefen\, werden für die Schüler der Tier-Shiatsu Schule ME Übungseinheiten angeboten. Die Themen werden von Euch bestimmt. Der eigene Hund kann gerne mitgebracht werden\, ansonsten wird ein Hund zur Verfügung gestellt. Die Praxiseinheit wird mit Fr. 150.00 pro Stunde berechnet. Bei Fragen stehe ich gerne zur Verfügung. Die Anmeldung ist 2 Wochen vor Stattfinden verbindlich.
URL:http://hundephysio.li/kurs/praxiseinheit-6/
LOCATION:Hundephysio\, Ruggeller Strasse 38\, Gamprin-Bendern\, 9487\, Liechtenstein
ORGANIZER;CN="Gabriela%20Schmid":MAILTO:info@hundephysio.li
END:VEVENT
BEGIN:VEVENT
DTSTART;TZID=UTC:20210710T090000
DTEND;TZID=UTC:20210710T120000
DTSTAMP:20260420T223324
CREATED:20201128T113440Z
LAST-MODIFIED:20210704T121458Z
UID:236-1625907600-1625918400@hundephysio.li
SUMMARY:Schnupperkurs Tier-Shiatsu
DESCRIPTION:Hilfe zur Eigenregulation. „Sanfte Griffe mit grosser Wirkung“. Sie lernen einige Shiatsu-Techniken und ihre Anwendungsmöglichkeiten kennen und werden diese am Tier umsetzen. Mitnehmen des eigenen Hundes ist erwünscht! \nDie definitive Durchführung wird eine Woche davor per Mail bekanntgegeben.
URL:http://hundephysio.li/kurs/schnupperkurs-tier-shiatsu-9/
LOCATION:Hundephysio\, Ruggeller Strasse 38\, Gamprin-Bendern\, 9487\, Liechtenstein
ORGANIZER;CN="Gabriela%20Schmid":MAILTO:info@hundephysio.li
END:VEVENT
BEGIN:VEVENT
DTSTART;TZID=UTC:20210625T140000
DTEND;TZID=UTC:20210625T170000
DTSTAMP:20260420T223324
CREATED:20201128T113502Z
LAST-MODIFIED:20210224T064122Z
UID:256-1624629600-1624640400@hundephysio.li
SUMMARY:Praxiseinheit
DESCRIPTION:Um das Tiershiatsu in der Praxis zu vertiefen\, werden für die Schüler der Tier-Shiatsu Schule ME Übungseinheiten angeboten. Die Themen werden von Euch bestimmt. Der eigene Hund kann gerne mitgebracht werden\, ansonsten wird ein Hund zur Verfügung gestellt. Die Praxiseinheit wird mit Fr. 150.00 pro Stunde berechnet. Bei Fragen stehe ich gerne zur Verfügung. Die Anmeldung ist 2 Wochen vor Stattfinden verbindlich.
URL:http://hundephysio.li/kurs/praxiseinheit-7/
LOCATION:Hundephysio\, Ruggeller Strasse 38\, Gamprin-Bendern\, 9487\, Liechtenstein
ORGANIZER;CN="Gabriela%20Schmid":MAILTO:info@hundephysio.li
END:VEVENT
BEGIN:VEVENT
DTSTART;TZID=UTC:20210605T090000
DTEND;TZID=UTC:20210605T120000
DTSTAMP:20260420T223324
CREATED:20201128T133955Z
LAST-MODIFIED:20210224T064925Z
UID:254-1622883600-1622894400@hundephysio.li
SUMMARY:Praxiseinheit
DESCRIPTION:Um das Tiershiatsu in der Praxis zu vertiefen\, werden für die Schüler der Tier-Shiatsu Schule ME Übungseinheiten angeboten. Die Themen werden von Euch bestimmt. Der eigene Hund kann gerne mitgebracht werden\, ansonsten wird ein Hund zur Verfügung gestellt. Die Praxiseinheit wird mit Fr. 150.00 pro Stunde berechnet. Für Fragen stehe ich gerne zur Verfügung. Die Anmeldung ist 2 Wochen vor Stattfinden verbindlich.
URL:http://hundephysio.li/kurs/praxiseinheit-8/
LOCATION:Hundephysio\, Ruggeller Strasse 38\, Gamprin-Bendern\, 9487\, Liechtenstein
ORGANIZER;CN="Gabriela%20Schmid":MAILTO:info@hundephysio.li
END:VEVENT
BEGIN:VEVENT
DTSTART;TZID=UTC:20210529T090000
DTEND;TZID=UTC:20210529T120000
DTSTAMP:20260420T223324
CREATED:20201128T134028Z
LAST-MODIFIED:20210104T115950Z
UID:233-1622278800-1622289600@hundephysio.li
SUMMARY:Schnupperkurs Tier-Shiatsu
DESCRIPTION:Hilfe zur Eigenregulation. „Sanfte Griffe mit grosser Wirkung“. Sie lernen einige Shiatsu-Techniken und ihre Anwendungsmöglichkeiten kennen und werden diese am Tier umsetzen. Mitnehmen des eigenen Hundes ist erwünscht! \nDie definitive Durchführung wird eine Woche davor per Mail bekanntgegeben.
URL:http://hundephysio.li/kurs/schnupperkurs-tier-shiatsu-10/
LOCATION:Hundephysio\, Ruggeller Strasse 38\, Gamprin-Bendern\, 9487\, Liechtenstein
ORGANIZER;CN="Gabriela%20Schmid":MAILTO:info@hundephysio.li
END:VEVENT
BEGIN:VEVENT
DTSTART;TZID=UTC:20210508T090000
DTEND;TZID=UTC:20210508T120000
DTSTAMP:20260420T223324
CREATED:20201128T134050Z
LAST-MODIFIED:20210224T064149Z
UID:252-1620464400-1620475200@hundephysio.li
SUMMARY:Praxiseinheit
DESCRIPTION:Um das Tiershiatsu in der Praxis zu vertiefen\, werden für die Schüler der Tier-Shiatsu Schule ME Übungseinheiten angeboten. Die Themen werden von Euch bestimmt. Der eigene Hund kann gerne mitgebracht werden\, ansonsten wird ein Hund zur Verfügung gestellt. Die Praxiseinheit wird mit Fr. 150.00 pro Stunde berechnet. Bei Fragen stehe ich gerne zur Verfügung. Die Anmeldung ist 2 Wochen vor Stattfinden verbindlich.
URL:http://hundephysio.li/kurs/praxiseinheit-9/
LOCATION:Hundephysio\, Ruggeller Strasse 38\, Gamprin-Bendern\, 9487\, Liechtenstein
ORGANIZER;CN="Gabriela%20Schmid":MAILTO:info@hundephysio.li
END:VEVENT
BEGIN:VEVENT
DTSTART;TZID=UTC:20210417T090000
DTEND;TZID=UTC:20210417T120000
DTSTAMP:20260420T223324
CREATED:20201128T134111Z
LAST-MODIFIED:20210224T064218Z
UID:250-1618650000-1618660800@hundephysio.li
SUMMARY:Praxiseinheit
DESCRIPTION:Um das Tiershiatsu in der Praxis zu vertiefen\, werden für die Schüler der Tier-Shiatsu Schule ME Übungseinheiten angeboten. Die Themen werden von Euch bestimmt. Der eigene Hund kann gerne mitgebracht werden\, ansonsten wird ein Hund zur Verfügung gestellt. Die Praxiseinheit wird mit Fr. 150.00 pro Stunde berechnet. Bei Fragen stehe ich gerne zur Verfügung. Die Anmeldung ist 2 Wochen vor Stattfinden verbindlich.
URL:http://hundephysio.li/kurs/praxiseinheit-10/
LOCATION:Hundephysio\, Ruggeller Strasse 38\, Gamprin-Bendern\, 9487\, Liechtenstein
ORGANIZER;CN="Gabriela%20Schmid":MAILTO:info@hundephysio.li
END:VEVENT
BEGIN:VEVENT
DTSTART;TZID=UTC:20210320T090000
DTEND;TZID=UTC:20210320T120000
DTSTAMP:20260420T223324
CREATED:20201128T134137Z
LAST-MODIFIED:20210224T064548Z
UID:248-1616230800-1616241600@hundephysio.li
SUMMARY:Praxiseinheit
DESCRIPTION:Um das Tiershiatsu in der Praxis zu vertiefen\, werden für die Schüler der Tier-Shiatsu Schule ME Übungseinheiten angeboten. Die Themen werden von Euch bestimmt. Der eigene Hund kann gerne mitgebracht werden\, ansonsten wird ein Hund zur Verfügung gestellt. Die Praxiseinheit wird mit Fr. 150.00 pro Stunde berechnet. Bei Fragen stehe ich gerne zur Verfügung. Die Anmeldung ist 2 Wochen vor Stattfinden verbindlich.
URL:http://hundephysio.li/kurs/praxiseinheit-11/
LOCATION:Hundephysio\, Ruggeller Strasse 38\, Gamprin-Bendern\, 9487\, Liechtenstein
ORGANIZER;CN="Gabriela%20Schmid":MAILTO:info@hundephysio.li
END:VEVENT
BEGIN:VEVENT
DTSTART;TZID=UTC:20210313T090000
DTEND;TZID=UTC:20210313T120000
DTSTAMP:20260420T223324
CREATED:20201128T134208Z
LAST-MODIFIED:20210104T115901Z
UID:230-1615626000-1615636800@hundephysio.li
SUMMARY:Schnupperkurs Tier-Shiatsu
DESCRIPTION:Hilfe zur Eigenregulation. „Sanfte Griffe mit grosser Wirkung“. Sie lernen einige Shiatsu-Techniken und ihre Anwendungsmöglichkeiten kennen und werden diese am Tier umsetzen. Mitnehmen des eigenen Hundes ist erwünscht! \nDie definitive Durchführung wird eine Woche davor per Mail bekanntgegeben.
URL:http://hundephysio.li/kurs/schnupperkurs-tier-shiatsu-11/
LOCATION:Hundephysio\, Ruggeller Strasse 38\, Gamprin-Bendern\, 9487\, Liechtenstein
ORGANIZER;CN="Gabriela%20Schmid":MAILTO:info@hundephysio.li
END:VEVENT
BEGIN:VEVENT
DTSTART;TZID=UTC:20210227T090000
DTEND;TZID=UTC:20210227T120000
DTSTAMP:20260420T223324
CREATED:20201128T134238Z
LAST-MODIFIED:20210224T064250Z
UID:246-1614416400-1614427200@hundephysio.li
SUMMARY:Praxiseinheit
DESCRIPTION:Um das Tiershiatsu in der Praxis zu vertiefen\, werden für die Schüler der Tier-Shiatsu Schule ME Übungseinheiten angeboten. Die Themen werden von Euch bestimmt. Der eigene Hund kann gerne mitgebracht werden\, ansonsten wird ein Hund zur Verfügung gestellt. Bei Fragen stehe ich gerne zur Verfügung. Die Anmeldung ist 2 Wochen vor Stattfinden verbindlich.
URL:http://hundephysio.li/kurs/praxiseinheit-12/
LOCATION:Hundephysio\, Ruggeller Strasse 38\, Gamprin-Bendern\, 9487\, Liechtenstein
ORGANIZER;CN="Gabriela%20Schmid":MAILTO:info@hundephysio.li
END:VEVENT
BEGIN:VEVENT
DTSTART;TZID=UTC:20210206T090000
DTEND;TZID=UTC:20210206T120000
DTSTAMP:20260420T223324
CREATED:20201128T134305Z
LAST-MODIFIED:20210104T115725Z
UID:244-1612602000-1612612800@hundephysio.li
SUMMARY:Praxiseinheit
DESCRIPTION:Um das Tiershiatsu in der Praxis zu vertiefen\, werden für die Schüler der Tier-Shiatsu Schule ME Übungseinheiten angeboten. Die Themen werden von Euch bestimmt. Der eigene Hund kann gerne mitgebracht werden\, ansonsten wird ein Hund zur Verfügung gestellt. Die Praxiseinheit wird mit Fr. 150.00 pro Stunde berechnet. Bei Fragen stehe ich gerne zur Verfügung.
URL:http://hundephysio.li/kurs/praxiseinheit-13/
LOCATION:Hundephysio\, Ruggeller Strasse 38\, Gamprin-Bendern\, 9487\, Liechtenstein
ORGANIZER;CN="Gabriela%20Schmid":MAILTO:info@hundephysio.li
END:VEVENT
BEGIN:VEVENT
DTSTART;TZID=UTC:20201121T090000
DTEND;TZID=UTC:20201121T120000
DTSTAMP:20260420T223324
CREATED:20200323T173006Z
LAST-MODIFIED:20201011T120534Z
UID:193-1605949200-1605960000@hundephysio.li
SUMMARY:Schnupperkurs Tier-Shiatsu
DESCRIPTION:Hilfe zur Eigenregulation. «Sanfte Griffe mit grosser Wirkung». Sie lernen einige Shiatsu-Techniken und ihre Anwendungsmöglichkeiten kennen und werden diese am Tier umsetzen. Mitnehmen des eigenen Hundes ist erwünscht! \nDie definitive Durchführung wird eine Woche davor per Mail bekanntgegeben.
URL:http://hundephysio.li/kurs/schnupperkurs-tier-shiatsu-5/
LOCATION:Hundephysio\, Ruggeller Strasse 38\, Gamprin-Bendern\, 9487\, Liechtenstein
ORGANIZER;CN="Gabriela%20Schmid":MAILTO:info@hundephysio.li
END:VEVENT
BEGIN:VEVENT
DTSTART;TZID=UTC:20201003T090000
DTEND;TZID=UTC:20201003T120000
DTSTAMP:20260420T223324
CREATED:20200323T172843Z
LAST-MODIFIED:20200623T174138Z
UID:191-1601715600-1601726400@hundephysio.li
SUMMARY:Schnupperkurs Tier-Shiatsu
DESCRIPTION:Hilfe zur Eigenregulation. «Sanfte Griffe mit grosser Wirkung». Sie lernen einige Shiatsu-Techniken und ihre Anwendungsmöglichkeiten kennen und werden diese am Tier umsetzen. Mitnehmen des eigenen Hundes ist erwünscht! \nDie definitive Durchführung wird eine Woche davor per Mail bekanntgegeben. \n 
URL:http://hundephysio.li/kurs/schnupperkurs-tier-shiatsu-4/
LOCATION:Hundephysio\, Ruggeller Strasse 38\, Gamprin-Bendern\, 9487\, Liechtenstein
ORGANIZER;CN="Gabriela%20Schmid":MAILTO:info@hundephysio.li
END:VEVENT
BEGIN:VEVENT
DTSTART;TZID=UTC:20200829T090000
DTEND;TZID=UTC:20200829T120000
DTSTAMP:20260420T223324
CREATED:20200323T172714Z
LAST-MODIFIED:20200623T174038Z
UID:189-1598691600-1598702400@hundephysio.li
SUMMARY:Schnupperkurs Tier-Shiatsu
DESCRIPTION:Hilfe zur Eigenregulation. «Sanfte Griffe mit grosser Wirkung». Sie lernen einige Shiatsu-Techniken und ihre Anwendungsmöglichkeiten kennen und werden diese am Tier umsetzen. Mitnehmen des eigenen Hundes ist erwünscht! \nDie definitive Durchführung wird eine Woche davor per Mail bekanntgegeben.
URL:http://hundephysio.li/kurs/schnupperkurs-tier-shiatsu-3/
LOCATION:Hundephysio\, Ruggeller Strasse 38\, Gamprin-Bendern\, 9487\, Liechtenstein
ORGANIZER;CN="Gabriela%20Schmid":MAILTO:info@hundephysio.li
END:VEVENT
BEGIN:VEVENT
DTSTART;TZID=UTC:20200620T090000
DTEND;TZID=UTC:20200620T120000
DTSTAMP:20260420T223324
CREATED:20200323T171742Z
LAST-MODIFIED:20200524T184932Z
UID:186-1592643600-1592654400@hundephysio.li
SUMMARY:Schnupperkurs Tier-Shiatsu
DESCRIPTION:Hilfe zur Eigenregulation. «Sanfte Griffe mit grosser Wirkung». Sie lernen einige Shiatsu-Techniken und ihre Anwendungsmöglichkeiten kennen und werden diese am Tier umsetzen. Mitnehmen des eigenen Hundes ist erwünscht! \nDie definitive Durchführung wird eine Woche davor per Mail bekanntgegeben.
URL:http://hundephysio.li/kurs/schnupperkurs-tier-shiatsu-2/
LOCATION:Hundephysio\, Ruggeller Strasse 38\, Gamprin-Bendern\, 9487\, Liechtenstein
ORGANIZER;CN="Gabriela%20Schmid":MAILTO:info@hundephysio.li
END:VEVENT
END:VCALENDAR